BEGIN:VCALENDAR
VERSION:2.0
PRODID:-//Vrouw tot Vrouw - ECPv6.15.20//NONSGML v1.0//EN
CALSCALE:GREGORIAN
METHOD:PUBLISH
X-ORIGINAL-URL:https://vrouwtotvrouw.g4zdev.com
X-WR-CALDESC:Evenementen voor Vrouw tot Vrouw
REFRESH-INTERVAL;VALUE=DURATION:PT1H
X-Robots-Tag:noindex
X-PUBLISHED-TTL:PT1H
BEGIN:VTIMEZONE
TZID:Europe/Amsterdam
BEGIN:DAYLIGHT
TZOFFSETFROM:+0100
TZOFFSETTO:+0200
TZNAME:CEST
DTSTART:20230326T010000
END:DAYLIGHT
BEGIN:STANDARD
TZOFFSETFROM:+0200
TZOFFSETTO:+0100
TZNAME:CET
DTSTART:20231029T010000
END:STANDARD
BEGIN:DAYLIGHT
TZOFFSETFROM:+0100
TZOFFSETTO:+0200
TZNAME:CEST
DTSTART:20240331T010000
END:DAYLIGHT
BEGIN:STANDARD
TZOFFSETFROM:+0200
TZOFFSETTO:+0100
TZNAME:CET
DTSTART:20241027T010000
END:STANDARD
BEGIN:DAYLIGHT
TZOFFSETFROM:+0100
TZOFFSETTO:+0200
TZNAME:CEST
DTSTART:20250330T010000
END:DAYLIGHT
BEGIN:STANDARD
TZOFFSETFROM:+0200
TZOFFSETTO:+0100
TZNAME:CET
DTSTART:20251026T010000
END:STANDARD
END:VTIMEZONE
BEGIN:VEVENT
DTSTART;TZID=Europe/Amsterdam:20240406T093000
DTEND;TZID=Europe/Amsterdam:20240406T144500
DTSTAMP:20260422T085617
CREATED:20231212T213100Z
LAST-MODIFIED:20241107T153913Z
UID:21874-1712395800-1712414700@vrouwtotvrouw.g4zdev.com
SUMMARY:Vrouwendag - Genemuiden
DESCRIPTION:[vc_row full_width=”stretch_row_content_no_spaces”][vc_column]\n	\n		\n			\n				\n			\n		\n	\n         \n        Home > Evenementen[/vc_column][/vc_row][vc_row][vc_column width=”2/3″]Sing-in 11 juni[vc_column_text]Thema: Houd vol! \nSprekers: ds. M.G.M. Mudde uit Oosterwolde en Fatima uit Rotterdam. \nInloop vanaf 9.15 uur\, we starten de dag om 9.30 uur. Rond 14.45 uur sluiten we af.[/vc_column_text]Tickets bestellen[vc_column_text]Bestel hieronder je ticket voor deze dag. Kies het ticket met de workshop van jouw voorkeur. Let op\, aan sommige workshops zijn extra kosten verbonden. Deze dien je te voldoen aan de workshopgever tijdens de workshop. \nNa betaling geen bevestigingsmail ontvangen? Kijk dan even in de map ongewenste items (spam). \nAndere vragen? Mail naar vrouwendagen@vrouwtotvrouw.nl.[/vc_column_text][/vc_column][vc_column width=”1/3″ css=”.vc_custom_1704730600822{margin-top: 50px !important;}” offset=”vc_hidden-lg”][vc_column_text] \nTip: Is de uitgebreide workshopbeschrijving niet zichtbaar op het scherm van je mobiel? Kantel je scherm. \n[/vc_column_text][/vc_column][/vc_row]
URL:https://vrouwtotvrouw.g4zdev.com/event/vrouwendag-genemuiden/
LOCATION:Hervormd Centrum Genemuiden\, Stuivenbergstraat 51\, Genemuiden\, 8281 EK\, Netherlands
CATEGORIES:Agenda,Vrouwendagen
ATTACH;FMTTYPE=image/jpeg:https://vrouwtotvrouw.g4zdev.com/app/uploads/2023/12/IMG_7072.jpg
END:VEVENT
END:VCALENDAR