BEGIN:VCALENDAR
VERSION:2.0
PRODID:-//Vrouw tot Vrouw - ECPv6.15.20//NONSGML v1.0//EN
CALSCALE:GREGORIAN
METHOD:PUBLISH
X-WR-CALNAME:Vrouw tot Vrouw
X-ORIGINAL-URL:https://vrouwtotvrouw.g4zdev.com
X-WR-CALDESC:Evenementen voor Vrouw tot Vrouw
REFRESH-INTERVAL;VALUE=DURATION:PT1H
X-Robots-Tag:noindex
X-PUBLISHED-TTL:PT1H
BEGIN:VTIMEZONE
TZID:UTC
BEGIN:STANDARD
TZOFFSETFROM:+0000
TZOFFSETTO:+0000
TZNAME:UTC
DTSTART:20240101T000000
END:STANDARD
END:VTIMEZONE
BEGIN:VEVENT
DTSTART;TZID=UTC:20250125T143000
DTEND;TZID=UTC:20250125T193000
DTSTAMP:20260421T153424
CREATED:20241115T205622Z
LAST-MODIFIED:20250102T191302Z
UID:26587-1737815400-1737833400@vrouwtotvrouw.g4zdev.com
SUMMARY:Winterwandeling 25 januari - Putten
DESCRIPTION:[vc_row full_width=”stretch_row_content_no_spaces”][vc_column]\n	\n		\n			\n				\n			\n		\n	\n         \n        Home > Evenementen[/vc_column][/vc_row][vc_row][vc_column width=”2/3″]Sing-in 11 juni[vc_btn title=”Lees hier alle informatie” link=”url:https%3A%2F%2Fvrouwtotvrouw.nl%2Fnieuws%2Fwinterwandeling%2F|title:Winterwandelingen”][vc_column_text]Wat kan dat heerlijk zijn om in de prachtige wintermaanden je dikke jas aan te trekken en naar buiten te gaan. En wat is er fijner om dat samen met andere vrouwen te doen? \nDe tickets zijn helaas uitverkocht. Aanmelden voor de reservelijst is wel mogelijk.\nBij annulering worden er 5 euro administratiekosten in rekening gebracht. \n[/vc_column_text]\n\n                \n                        \n                            Aanmelden reservelijst winterwandeling Putten\n                        \n                        Naam(Vereist)\n                            \n                            \n                                                    Voornaam\n                                                    \n                                                \n                            \n                            \n                                                            Achternaam\n                                                            \n                                                        \n                            \n                        E-mailadres(Vereist)\n                                \n                                    E-mailadres invoeren\n                                    \n                                \n                                \n                                    E-mailadres bevestigen\n                                    \n                                \n                                \n                            \n          \n            \n            \n            \n            \n            \n            \n            \n            \n            \n            \n            \n            \n        \n                        \n                        \n[/vc_column][vc_column width=”1/3″][/vc_column][/vc_row]
URL:https://vrouwtotvrouw.g4zdev.com/event/winterwandeling-25-januari-putten/
LOCATION:Zuiderkerk Putten\, Beulekampersteeg 5\, Putten\, Nederland
ATTACH;FMTTYPE=image/png:https://vrouwtotvrouw.g4zdev.com/app/uploads/2024/11/Definitieve-4.png
END:VEVENT
END:VCALENDAR