BEGIN:VCALENDAR
VERSION:2.0
PRODID:-//Vrouw tot Vrouw - ECPv6.15.20//NONSGML v1.0//EN
CALSCALE:GREGORIAN
METHOD:PUBLISH
X-WR-CALNAME:Vrouw tot Vrouw
X-ORIGINAL-URL:https://vrouwtotvrouw.g4zdev.com
X-WR-CALDESC:Evenementen voor Vrouw tot Vrouw
REFRESH-INTERVAL;VALUE=DURATION:PT1H
X-Robots-Tag:noindex
X-PUBLISHED-TTL:PT1H
BEGIN:VTIMEZONE
TZID:UTC
BEGIN:STANDARD
TZOFFSETFROM:+0000
TZOFFSETTO:+0000
TZNAME:UTC
DTSTART:20240101T000000
END:STANDARD
END:VTIMEZONE
BEGIN:VEVENT
DTSTART;TZID=UTC:20250329T093000
DTEND;TZID=UTC:20250329T144500
DTSTAMP:20260421T123406
CREATED:20250109T113117Z
LAST-MODIFIED:20250219T185401Z
UID:27473-1743240600-1743259500@vrouwtotvrouw.g4zdev.com
SUMMARY:Vrouwendag Giessenburg
DESCRIPTION:[vc_row full_width=”stretch_row_content_no_spaces”][vc_column]\n	\n		\n			\n				\n			\n		\n	\n         \n        Home > Evenementen[/vc_column][/vc_row][vc_row][vc_column width=”2/3″]Sing-in 11 juni[vc_column_text] \nHelaas is de vrouwendag Giessenburg vol. Voor Genemuiden\, Zeist en Dordrecht zijn er nog tickets beschikbaar. \nThema: Veilig onder Zijn vleugels! \nSprekers: ds. J. van Dijk (Ridderkerk) en Gerdine Blom (uitgezonden geweest naar Albanië namens GZB) \nInloop vanaf 9.15 uur\, we starten de dag om 9.30 uur. Rond 14.45 uur sluiten we af.[/vc_column_text]Tickets bestellen[vc_column_text]Bestel hieronder je ticket voor deze dag. Kies het ticket met de workshop van jouw voorkeur. Let op\, aan sommige workshops zijn extra kosten verbonden. Deze dien je te voldoen aan de workshopgever tijdens de workshop. \nNa betaling geen bevestigingsmail ontvangen? Kijk dan even in de map ongewenste items (spam). \nAndere vragen? Mail naar vrouwendagen@vrouwtotvrouw.nl.[/vc_column_text][vc_column_text] \nTip: Is de uitgebreide workshopbeschrijving niet zichtbaar op het scherm van je mobiel? Kantel je scherm. \n\n[/vc_column_text][/vc_column][vc_column width=”1/3″][/vc_column][/vc_row]
URL:https://vrouwtotvrouw.g4zdev.com/event/vrouwendag-giessenburg-2025/
LOCATION:De Til\, Giessenburg\, Breestraat 1\, Giessenburg\, 3381BS\, Nederland
CATEGORIES:Vrouwendagen
ATTACH;FMTTYPE=image/png:https://vrouwtotvrouw.g4zdev.com/app/uploads/2025/01/9.png
END:VEVENT
END:VCALENDAR