BEGIN:VCALENDAR
VERSION:2.0
PRODID:-//Vrouw tot Vrouw - ECPv6.15.20//NONSGML v1.0//EN
CALSCALE:GREGORIAN
METHOD:PUBLISH
X-WR-CALNAME:Vrouw tot Vrouw
X-ORIGINAL-URL:https://vrouwtotvrouw.g4zdev.com
X-WR-CALDESC:Evenementen voor Vrouw tot Vrouw
REFRESH-INTERVAL;VALUE=DURATION:PT1H
X-Robots-Tag:noindex
X-PUBLISHED-TTL:PT1H
BEGIN:VTIMEZONE
TZID:UTC
BEGIN:STANDARD
TZOFFSETFROM:+0000
TZOFFSETTO:+0000
TZNAME:UTC
DTSTART:20240101T000000
END:STANDARD
END:VTIMEZONE
BEGIN:VEVENT
DTSTART;TZID=UTC:20250521T093000
DTEND;TZID=UTC:20250521T120000
DTSTAMP:20260421T093909
CREATED:20250206T190513Z
LAST-MODIFIED:20250403T193336Z
UID:29199-1747819800-1747828800@vrouwtotvrouw.g4zdev.com
SUMMARY:On Tour Oldebroek
DESCRIPTION:[vc_row full_width=”stretch_row_content_no_spaces”][vc_column]\n	\n		\n			\n				\n			\n		\n	\n         \n        Home > Evenementen[/vc_column][/vc_row][vc_row][vc_column width=”2/3″]Sing-in 11 juni[vc_column_text]Kijk je uit naar een inspirerende lezing\, samen zingen en elkaar ontmoeten bij een kopje koffie of thee? Dan is Vrouw tot Vrouw on Tour wat voor jou! Een (woendag)ochtend waarin we nadenken over de zegen van de Zon. Ook gaan we creatief aan de slag. [/vc_column_text][vc_single_image image=”30610″ img_size=”medium” onclick=”custom_link” link=”https://vrouwtotvrouw.nl/nieuws/vrouw-tot-vrouw-on-tour-2025/”][/vc_column][vc_column width=”1/3″][/vc_column][/vc_row]
URL:https://vrouwtotvrouw.g4zdev.com/event/on-tour-oldenbroek/
LOCATION:Oldebroek
CATEGORIES:Agenda
ATTACH;FMTTYPE=image/png:https://vrouwtotvrouw.g4zdev.com/app/uploads/2025/02/WebsiteYoutube-2.png
END:VEVENT
END:VCALENDAR