BEGIN:VCALENDAR
VERSION:2.0
PRODID:-//Vrouw tot Vrouw - ECPv6.15.20//NONSGML v1.0//EN
CALSCALE:GREGORIAN
METHOD:PUBLISH
X-WR-CALNAME:Vrouw tot Vrouw
X-ORIGINAL-URL:https://vrouwtotvrouw.g4zdev.com
X-WR-CALDESC:Evenementen voor Vrouw tot Vrouw
REFRESH-INTERVAL;VALUE=DURATION:PT1H
X-Robots-Tag:noindex
X-PUBLISHED-TTL:PT1H
BEGIN:VTIMEZONE
TZID:Europe/Amsterdam
BEGIN:DAYLIGHT
TZOFFSETFROM:+0100
TZOFFSETTO:+0200
TZNAME:CEST
DTSTART:20230326T010000
END:DAYLIGHT
BEGIN:STANDARD
TZOFFSETFROM:+0200
TZOFFSETTO:+0100
TZNAME:CET
DTSTART:20231029T010000
END:STANDARD
BEGIN:DAYLIGHT
TZOFFSETFROM:+0100
TZOFFSETTO:+0200
TZNAME:CEST
DTSTART:20240331T010000
END:DAYLIGHT
BEGIN:STANDARD
TZOFFSETFROM:+0200
TZOFFSETTO:+0100
TZNAME:CET
DTSTART:20241027T010000
END:STANDARD
BEGIN:DAYLIGHT
TZOFFSETFROM:+0100
TZOFFSETTO:+0200
TZNAME:CEST
DTSTART:20250330T010000
END:DAYLIGHT
BEGIN:STANDARD
TZOFFSETFROM:+0200
TZOFFSETTO:+0100
TZNAME:CET
DTSTART:20251026T010000
END:STANDARD
END:VTIMEZONE
BEGIN:VEVENT
DTSTART;TZID=Europe/Amsterdam:20240113T143000
DTEND;TZID=Europe/Amsterdam:20240113T193000
DTSTAMP:20260422T223429
CREATED:20231031T114146Z
LAST-MODIFIED:20231122T144017Z
UID:20890-1705156200-1705174200@vrouwtotvrouw.g4zdev.com
SUMMARY:Winterwandeling - Bruchem
DESCRIPTION:[vc_row full_width=”stretch_row_content_no_spaces”][vc_column]\n	\n		\n			\n				\n			\n		\n	\n         \n        Home > Bijeenkomsten[/vc_column][/vc_row][vc_row][vc_column width=”2/3″]Winterwandeling – Zegveld[vc_single_image image=”21098″ img_size=”full”][vc_column_text]Bestel hieronder je ticket voor de winterwandeling in Bruchem. \nDATUM: D.V. zaterdag 13 januari 2024\nVERZAMELPUNT: Eben-Haëzer\, De Kosterijstraat 2\, Bruchem \nVragen? Mail naar winterwandeling@vrouwtotvrouw.nl.[/vc_column_text][/vc_column][vc_column width=”1/3″][/vc_column][/vc_row]
URL:https://vrouwtotvrouw.g4zdev.com/event/winterwandeling-bruchem/
LOCATION:Eben-Haëzer\, Bruchem\, De Kosterijstraat 2\, Bruchem
CATEGORIES:Bijeenkomsten
ATTACH;FMTTYPE=image/png:https://vrouwtotvrouw.g4zdev.com/app/uploads/2023/11/Prachtige-wandelroute-4.png
END:VEVENT
BEGIN:VEVENT
DTSTART;TZID=Europe/Amsterdam:20240120T143000
DTEND;TZID=Europe/Amsterdam:20240120T193000
DTSTAMP:20260422T223429
CREATED:20231031T114210Z
LAST-MODIFIED:20231122T144045Z
UID:20896-1705761000-1705779000@vrouwtotvrouw.g4zdev.com
SUMMARY:Winterwandeling - Uddel
DESCRIPTION:[vc_row full_width=”stretch_row_content_no_spaces”][vc_column]\n	\n		\n			\n				\n			\n		\n	\n         \n        Home > Bijeenkomsten[/vc_column][/vc_row][vc_row][vc_column width=”2/3″]Winterwandeling – Zegveld[vc_single_image image=”21098″ img_size=”full”][vc_column_text]Bestel hieronder je ticket voor de winterwandeling in Uddel. \nDATUM: D.V. zaterdag 20 januari 2024\nVERZAMELPUNT: Dorpshuis Het Blanke Schot\, Garderenseweg 33\, Uddel \nVragen? Mail naar winterwandeling@vrouwtotvrouw.nl.[/vc_column_text][/vc_column][vc_column width=”1/3″][/vc_column][/vc_row]
URL:https://vrouwtotvrouw.g4zdev.com/event/winterwandeling-uddel/
LOCATION:Dorpshuis Het Blanke Schot\, Uddel\, Garderenseweg 33\, Uddel\, 3888LA\, Nederland
CATEGORIES:Bijeenkomsten
ATTACH;FMTTYPE=image/png:https://vrouwtotvrouw.g4zdev.com/app/uploads/2023/11/Prachtige-wandelroute-5.png
END:VEVENT
BEGIN:VEVENT
DTSTART;TZID=Europe/Amsterdam:20240127T143000
DTEND;TZID=Europe/Amsterdam:20240127T193000
DTSTAMP:20260422T223429
CREATED:20231031T114237Z
LAST-MODIFIED:20241107T154323Z
UID:20899-1706365800-1706383800@vrouwtotvrouw.g4zdev.com
SUMMARY:Winterwandeling - Zegveld
DESCRIPTION:[vc_row full_width=”stretch_row_content_no_spaces”][vc_column]\n	\n		\n			\n				\n			\n		\n	\n         \n        Home > Bijeenkomsten[/vc_column][/vc_row][vc_row][vc_column width=”2/3″]Winterwandeling – Zegveld[vc_single_image image=”21098″ img_size=”full”][vc_column_text]Bestel hieronder je ticket voor de winterwandeling in Zegveld. \nDATUM: D.V. zaterdag 27 januari 2024\nVERZAMELPUNT: De Voorhof\, Hoofdweg 48\, Zegveld \nVragen? Mail naar winterwandeling@vrouwtotvrouw.nl.[/vc_column_text][/vc_column][vc_column width=”1/3″][/vc_column][/vc_row]
URL:https://vrouwtotvrouw.g4zdev.com/event/winterwandeling-zegveld/
LOCATION:De Voorhof\, Zegveld\, Hoofdweg 48\, Zegveld
CATEGORIES:Agenda,Bijeenkomsten
ATTACH;FMTTYPE=image/png:https://vrouwtotvrouw.g4zdev.com/app/uploads/2023/11/Prachtige-wandelroute-6.png
END:VEVENT
END:VCALENDAR