BEGIN:VCALENDAR
VERSION:2.0
PRODID:-//Vrouw tot Vrouw - ECPv6.15.20//NONSGML v1.0//EN
CALSCALE:GREGORIAN
METHOD:PUBLISH
X-ORIGINAL-URL:https://vrouwtotvrouw.g4zdev.com
X-WR-CALDESC:Evenementen voor Vrouw tot Vrouw
REFRESH-INTERVAL;VALUE=DURATION:PT1H
X-Robots-Tag:noindex
X-PUBLISHED-TTL:PT1H
BEGIN:VTIMEZONE
TZID:UTC
BEGIN:STANDARD
TZOFFSETFROM:+0000
TZOFFSETTO:+0000
TZNAME:UTC
DTSTART:20240101T000000
END:STANDARD
END:VTIMEZONE
BEGIN:VEVENT
DTSTART;TZID=UTC:20250307T194500
DTEND;TZID=UTC:20250307T221500
DTSTAMP:20260421T172434
CREATED:20250109T112607Z
LAST-MODIFIED:20250301T185305Z
UID:27457-1741376700-1741385700@vrouwtotvrouw.g4zdev.com
SUMMARY:Vrouwenavond Zeist
DESCRIPTION:[vc_row full_width=”stretch_row_content_no_spaces”][vc_column]\n	\n		\n			\n				\n			\n		\n	\n         \n        Home > Vrouwendagen[/vc_column][/vc_row][vc_row][vc_column width=”2/3″]Vrouwenavond Dordrecht[vc_column_text]Thema: Veilig onder Zijn vleugels! \nSprekers: ds. C. Budding (Urk) en Boukje van de Berg (Groningen\, pioniersplek namens IZB) \nInloop vanaf 19.15 uur\, we starten de avond om 19.45 uur. Uiterlijk 22.15 uur sluiten we af. \n[/vc_column_text]Tickets bestellen[vc_column_text]Bestel hieronder je ticket voor deze avond. \nNa betaling geen bevestigingsmail ontvangen? Kijk dan even in de map ongewenste items (spam). \nAndere vragen? Mail naar vrouwendagen@vrouwtotvrouw.nl.[/vc_column_text][/vc_column][vc_column width=”1/3″][/vc_column][/vc_row]
URL:https://vrouwtotvrouw.g4zdev.com/event/vrouwenavond-zeist-2025/
LOCATION:Evangelische Broedergemeente Zeist\, Zusterplein 20\, Zeist\, 3703 CB - Let op: parkeren op het Broeder- en Zusterplein is alleen voor vergunningshouders. Er is een gratis parkeergelegenheid op Brouwerij 8 Parking aan de Zinderdorflaan\, naast slot Zeist.
CATEGORIES:Vrouwendagen
ATTACH;FMTTYPE=image/png:https://vrouwtotvrouw.g4zdev.com/app/uploads/2025/01/6.png
END:VEVENT
BEGIN:VEVENT
DTSTART;TZID=UTC:20250315T093000
DTEND;TZID=UTC:20250315T144500
DTSTAMP:20260421T172434
CREATED:20250109T112102Z
LAST-MODIFIED:20250118T185853Z
UID:27314-1742031000-1742049900@vrouwtotvrouw.g4zdev.com
SUMMARY:Vrouwendag Genemuiden
DESCRIPTION:[vc_row full_width=”stretch_row_content_no_spaces”][vc_column]\n	\n		\n			\n				\n			\n		\n	\n         \n        Home > Vrouwendagen[/vc_column][/vc_row][vc_row][vc_column width=”2/3″]Vrouwenavond Dordrecht[vc_column_text]Thema: Veilig onder Zijn vleugels! \nSprekers: ds. C. Budding (Urk) en Boukje van de Berg (Groningen\, pioniersplek namens IZB) \nInloop vanaf 9.15 uur\, we starten de dag om 9.30 uur. Rond 14.45 uur sluiten we af.[/vc_column_text]Tickets bestellen[vc_column_text]Bestel hieronder je ticket voor deze dag. Kies het ticket met de workshop van jouw voorkeur. Let op\, aan sommige workshops zijn extra kosten verbonden. Deze dien je te voldoen aan de workshopgever tijdens de workshop. \nNa betaling geen bevestigingsmail ontvangen? Kijk dan even in de map ongewenste items (spam). \nAndere vragen? Mail naar vrouwendagen@vrouwtotvrouw.nl.[/vc_column_text][vc_column_text] \nTip: Is de uitgebreide workshopbeschrijving niet zichtbaar op het scherm van je mobiel? Kantel je scherm. \n[/vc_column_text][/vc_column][vc_column width=”1/3″][/vc_column][/vc_row]
URL:https://vrouwtotvrouw.g4zdev.com/event/vrouwendag-genemuiden-2025/
LOCATION:Hervormd Centrum Genemuiden\, Stuivenbergstraat 51\, Genemuiden\, 8281 EK\, Netherlands
CATEGORIES:Vrouwendagen
ATTACH;FMTTYPE=image/png:https://vrouwtotvrouw.g4zdev.com/app/uploads/2025/01/8.png
END:VEVENT
BEGIN:VEVENT
DTSTART;TZID=UTC:20250329T093000
DTEND;TZID=UTC:20250329T144500
DTSTAMP:20260421T172434
CREATED:20250109T113117Z
LAST-MODIFIED:20250219T185401Z
UID:27473-1743240600-1743259500@vrouwtotvrouw.g4zdev.com
SUMMARY:Vrouwendag Giessenburg
DESCRIPTION:[vc_row full_width=”stretch_row_content_no_spaces”][vc_column]\n	\n		\n			\n				\n			\n		\n	\n         \n        Home > Vrouwendagen[/vc_column][/vc_row][vc_row][vc_column width=”2/3″]Vrouwenavond Dordrecht[vc_column_text] \nHelaas is de vrouwendag Giessenburg vol. Voor Genemuiden\, Zeist en Dordrecht zijn er nog tickets beschikbaar. \nThema: Veilig onder Zijn vleugels! \nSprekers: ds. J. van Dijk (Ridderkerk) en Gerdine Blom (uitgezonden geweest naar Albanië namens GZB) \nInloop vanaf 9.15 uur\, we starten de dag om 9.30 uur. Rond 14.45 uur sluiten we af.[/vc_column_text]Tickets bestellen[vc_column_text]Bestel hieronder je ticket voor deze dag. Kies het ticket met de workshop van jouw voorkeur. Let op\, aan sommige workshops zijn extra kosten verbonden. Deze dien je te voldoen aan de workshopgever tijdens de workshop. \nNa betaling geen bevestigingsmail ontvangen? Kijk dan even in de map ongewenste items (spam). \nAndere vragen? Mail naar vrouwendagen@vrouwtotvrouw.nl.[/vc_column_text][vc_column_text] \nTip: Is de uitgebreide workshopbeschrijving niet zichtbaar op het scherm van je mobiel? Kantel je scherm. \n\n[/vc_column_text][/vc_column][vc_column width=”1/3″][/vc_column][/vc_row]
URL:https://vrouwtotvrouw.g4zdev.com/event/vrouwendag-giessenburg-2025/
LOCATION:De Til\, Giessenburg\, Breestraat 1\, Giessenburg\, 3381BS\, Nederland
CATEGORIES:Vrouwendagen
ATTACH;FMTTYPE=image/png:https://vrouwtotvrouw.g4zdev.com/app/uploads/2025/01/9.png
END:VEVENT
BEGIN:VEVENT
DTSTART;TZID=UTC:20250411T194500
DTEND;TZID=UTC:20250411T221500
DTSTAMP:20260421T172434
CREATED:20250109T113303Z
LAST-MODIFIED:20250122T071612Z
UID:27467-1744400700-1744409700@vrouwtotvrouw.g4zdev.com
SUMMARY:Vrouwenavond Dordrecht
DESCRIPTION:[vc_row full_width=”stretch_row_content_no_spaces”][vc_column]\n	\n		\n			\n				\n			\n		\n	\n         \n        Home > Vrouwendagen[/vc_column][/vc_row][vc_row][vc_column width=”2/3″]Vrouwenavond Dordrecht[vc_column_text]Thema: Veilig onder Zijn vleugels! \nSprekers: ds. B.J. van Assen (Moerkapelle) en Gerdine Blom (uitgezonden geweest naar Albanië namens GZB) \nInloop vanaf 19.15 uur\, we starten de avond om 19.45 uur. Uiterlijk 22.15 uur sluiten we af.[/vc_column_text]Tickets bestellen[vc_column_text]Bestel hieronder je ticket voor deze avond. \nNa betaling geen bevestigingsmail ontvangen? Kijk dan even in de map ongewenste items (spam). \nAndere vragen? Mail naar vrouwendagen@vrouwtotvrouw.nl.[/vc_column_text][/vc_column][vc_column width=”1/3″][/vc_column][/vc_row]
URL:https://vrouwtotvrouw.g4zdev.com/event/vrouwenavond-dordrecht-2025/
LOCATION:Augustijnenkerk Dordrecht\, Voorstraat 216\, Dordrecht\, 3311 ET - Let op: Parkeren kan op parkeerterrein Steegoversloot aan het Stek\, parkeergarage Visstraat\, Achterom of Drievriendenhof)
CATEGORIES:Vrouwendagen
ATTACH;FMTTYPE=image/png:https://vrouwtotvrouw.g4zdev.com/app/uploads/2025/01/Vierkant-homepagina-14.png
END:VEVENT
END:VCALENDAR