BEGIN:VCALENDAR
VERSION:2.0
PRODID:-//Vrouw tot Vrouw - ECPv6.15.20//NONSGML v1.0//EN
CALSCALE:GREGORIAN
METHOD:PUBLISH
X-WR-CALNAME:Vrouw tot Vrouw
X-ORIGINAL-URL:https://vrouwtotvrouw.g4zdev.com
X-WR-CALDESC:Evenementen voor Vrouw tot Vrouw
REFRESH-INTERVAL;VALUE=DURATION:PT1H
X-Robots-Tag:noindex
X-PUBLISHED-TTL:PT1H
BEGIN:VTIMEZONE
TZID:UTC
BEGIN:STANDARD
TZOFFSETFROM:+0000
TZOFFSETTO:+0000
TZNAME:UTC
DTSTART:20240101T000000
END:STANDARD
END:VTIMEZONE
BEGIN:VEVENT
DTSTART;TZID=UTC:20250604T093000
DTEND;TZID=UTC:20250604T120000
DTSTAMP:20260421T110740
CREATED:20250206T190608Z
LAST-MODIFIED:20250403T193313Z
UID:29206-1749029400-1749038400@vrouwtotvrouw.g4zdev.com
SUMMARY:On Tour Bruinisse
DESCRIPTION:[vc_row full_width=”stretch_row_content_no_spaces”][vc_column]\n	\n		\n			\n				\n			\n		\n	\n         \n        Home > Evenementen[/vc_column][/vc_row][vc_row][vc_column width=”2/3″]Sing-in 11 juni[vc_column_text]Kijk je uit naar een inspirerende lezing\, samen zingen en elkaar ontmoeten bij een kopje koffie of thee? Dan is Vrouw tot Vrouw on Tour wat voor jou! Een (woendag)ochtend waarin we nadenken over de zegen van de Zon. Ook gaan we creatief aan de slag. [/vc_column_text][vc_single_image image=”30610″ img_size=”medium” onclick=”custom_link” link=”https://vrouwtotvrouw.nl/nieuws/vrouw-tot-vrouw-on-tour-2025/”][/vc_column][vc_column width=”1/3″][/vc_column][/vc_row]
URL:https://vrouwtotvrouw.g4zdev.com/event/on-tour-bruinisse/
LOCATION:Bruinisse
CATEGORIES:Agenda
ATTACH;FMTTYPE=image/png:https://vrouwtotvrouw.g4zdev.com/app/uploads/2025/02/WebsiteYoutube-1.png
END:VEVENT
BEGIN:VEVENT
DTSTART;TZID=UTC:20250618T093000
DTEND;TZID=UTC:20250618T120000
DTSTAMP:20260421T110740
CREATED:20250206T190718Z
LAST-MODIFIED:20250403T193247Z
UID:29209-1750239000-1750248000@vrouwtotvrouw.g4zdev.com
SUMMARY:On Tour Hardinxveld-Giessendam
DESCRIPTION:[vc_row full_width=”stretch_row_content_no_spaces”][vc_column]\n	\n		\n			\n				\n			\n		\n	\n         \n        Home > Evenementen[/vc_column][/vc_row][vc_row][vc_column width=”2/3″]Sing-in 11 juni[vc_column_text]Kijk je uit naar een inspirerende lezing\, samen zingen en elkaar ontmoeten bij een kopje koffie of thee? Dan is Vrouw tot Vrouw on Tour wat voor jou! Een (woendag)ochtend waarin we nadenken over de zegen van de Zon. Ook gaan we creatief aan de slag. [/vc_column_text][vc_single_image image=”30610″ img_size=”medium” onclick=”custom_link” link=”https://vrouwtotvrouw.nl/nieuws/vrouw-tot-vrouw-on-tour-2025/”][/vc_column][vc_column width=”1/3″][/vc_column][/vc_row]
URL:https://vrouwtotvrouw.g4zdev.com/event/on-tour-hardinxveld-giessendam/
LOCATION:Hardinxveld-Giessendam
CATEGORIES:Agenda
ATTACH;FMTTYPE=image/png:https://vrouwtotvrouw.g4zdev.com/app/uploads/2025/02/WebsiteYoutube-3.png
END:VEVENT
BEGIN:VEVENT
DTSTART;TZID=UTC:20260611T190000
DTEND;TZID=UTC:20260611T220000
DTSTAMP:20260421T110740
CREATED:20260325T092246Z
LAST-MODIFIED:20260325T092857Z
UID:32327-1781204400-1781215200@vrouwtotvrouw.g4zdev.com
SUMMARY:Sing-in 11 juni
DESCRIPTION:[vc_row full_width=”stretch_row_content_no_spaces”][vc_column]\n	\n		\n			\n				\n			\n		\n	\n         \n        Home > Evenementen[/vc_column][/vc_row][vc_row][vc_column width=”2/3″ css=”.vc_custom_1773774896222{border-top-width: 3px !important;border-right-width: 3px !important;border-bottom-width: 3px !important;border-left-width: 3px !important;background-color: rgba(221\,206\,191\,0.15) !important;*background-color: rgb(221\,206\,191) !important;border-left-color: #ce8c8a !important;border-left-style: dotted !important;border-right-color: #ce8c8a !important;border-right-style: dotted !important;border-top-color: #ce8c8a !important;border-top-style: dotted !important;border-bottom-color: #ce8c8a !important;border-bottom-style: dotted !important;border-radius: 15px !important;}”]Sing-in 11 juni[vc_column_text]Het thema van de sing-in is: “Levend Water” met als spreekster Lydia van Ginkel.\nInloop vanaf 19:00u met koffie. Na afloop om 21.30 uur is er nog gelegenheid om na te praten met een drankje en wat lekkers. \nBestel hieronder je ticket voor 11 juni.[/vc_column_text][/vc_column][vc_column width=”1/3″][/vc_column][/vc_row]
URL:https://vrouwtotvrouw.g4zdev.com/event/sing-in-11-juni/
END:VEVENT
END:VCALENDAR