BEGIN:VCALENDAR
VERSION:2.0
PRODID:-//Vrouw tot Vrouw - ECPv6.15.20//NONSGML v1.0//EN
CALSCALE:GREGORIAN
METHOD:PUBLISH
X-WR-CALNAME:Vrouw tot Vrouw
X-ORIGINAL-URL:https://vrouwtotvrouw.g4zdev.com
X-WR-CALDESC:Evenementen voor Vrouw tot Vrouw
REFRESH-INTERVAL;VALUE=DURATION:PT1H
X-Robots-Tag:noindex
X-PUBLISHED-TTL:PT1H
BEGIN:VTIMEZONE
TZID:Europe/Amsterdam
BEGIN:DAYLIGHT
TZOFFSETFROM:+0100
TZOFFSETTO:+0200
TZNAME:CEST
DTSTART:20190331T010000
END:DAYLIGHT
BEGIN:STANDARD
TZOFFSETFROM:+0200
TZOFFSETTO:+0100
TZNAME:CET
DTSTART:20191027T010000
END:STANDARD
BEGIN:DAYLIGHT
TZOFFSETFROM:+0100
TZOFFSETTO:+0200
TZNAME:CEST
DTSTART:20200329T010000
END:DAYLIGHT
BEGIN:STANDARD
TZOFFSETFROM:+0200
TZOFFSETTO:+0100
TZNAME:CET
DTSTART:20201025T010000
END:STANDARD
BEGIN:DAYLIGHT
TZOFFSETFROM:+0100
TZOFFSETTO:+0200
TZNAME:CEST
DTSTART:20210328T010000
END:DAYLIGHT
BEGIN:STANDARD
TZOFFSETFROM:+0200
TZOFFSETTO:+0100
TZNAME:CET
DTSTART:20211031T010000
END:STANDARD
END:VTIMEZONE
BEGIN:VEVENT
DTSTART;VALUE=DATE:20200924
DTEND;VALUE=DATE:20200925
DTSTAMP:20260422T223314
CREATED:20200108T092329Z
LAST-MODIFIED:20220401T142256Z
UID:5043-1600905600-1600991999@vrouwtotvrouw.g4zdev.com
SUMMARY:Bondsdag 2020
DESCRIPTION:[vc_row full_width=”stretch_row_content_no_spaces”][vc_column]\n	\n		\n			\n				\n			\n		\n	\n         \n        Home > Evenementen > Pagina 3[/vc_column][/vc_row][vc_row][vc_column width=”2/3″][/vc_column][vc_column width=”1/3″][/vc_column][/vc_row]
URL:https://vrouwtotvrouw.g4zdev.com/event/bondsdag-2020/
LOCATION:Online bijeenkomst
END:VEVENT
BEGIN:VEVENT
DTSTART;TZID=Europe/Amsterdam:20200519T101500
DTEND;TZID=Europe/Amsterdam:20200519T150000
DTSTAMP:20260422T223315
CREATED:20191118T111459Z
LAST-MODIFIED:20200618T120149Z
UID:3724-1589883300-1589900400@vrouwtotvrouw.g4zdev.com
SUMMARY:Algemene ledenvergadering 2020
DESCRIPTION:[vc_row full_width=”stretch_row_content_no_spaces”][vc_column]\n	\n		\n			\n				\n			\n		\n	\n         \n        Home > Evenementen > Pagina 3[/vc_column][/vc_row][vc_row][vc_column width=”2/3″]Winterwandeling – Zegveld[vc_column_text]Tijdens de algemene ledenvergadering nodigen we de bestuursleden van de verenigingen en de regio ’s van harte uit. Graag geven we inzicht in onze werkwijze en hierbij staan we open voor uw en jouw opmerkingen en suggesties. Probeert u aanwezig te zijn? We stellen uw betrokkenheid zeer op prijs.[/vc_column_text][/vc_column][vc_column width=”1/3″][/vc_column][/vc_row]
URL:https://vrouwtotvrouw.g4zdev.com/event/algemene-ledenvergadering-2020/
LOCATION:De Aker\, Putten\, Fontanusplein 2\, Putten\, 3881 BZ\, Nederland
CATEGORIES:Algemene Ledenvergadering
ATTACH;FMTTYPE=image/jpeg:https://vrouwtotvrouw.g4zdev.com/app/uploads/2019/03/VrouwenBond-4208.jpg
END:VEVENT
END:VCALENDAR