BEGIN:VCALENDAR
VERSION:2.0
PRODID:-//Vrouw tot Vrouw - ECPv6.15.20//NONSGML v1.0//EN
CALSCALE:GREGORIAN
METHOD:PUBLISH
X-ORIGINAL-URL:https://vrouwtotvrouw.g4zdev.com
X-WR-CALDESC:Evenementen voor Vrouw tot Vrouw
REFRESH-INTERVAL;VALUE=DURATION:PT1H
X-Robots-Tag:noindex
X-PUBLISHED-TTL:PT1H
BEGIN:VTIMEZONE
TZID:Europe/Amsterdam
BEGIN:DAYLIGHT
TZOFFSETFROM:+0100
TZOFFSETTO:+0200
TZNAME:CEST
DTSTART:20220327T010000
END:DAYLIGHT
BEGIN:STANDARD
TZOFFSETFROM:+0200
TZOFFSETTO:+0100
TZNAME:CET
DTSTART:20221030T010000
END:STANDARD
BEGIN:DAYLIGHT
TZOFFSETFROM:+0100
TZOFFSETTO:+0200
TZNAME:CEST
DTSTART:20230326T010000
END:DAYLIGHT
BEGIN:STANDARD
TZOFFSETFROM:+0200
TZOFFSETTO:+0100
TZNAME:CET
DTSTART:20231029T010000
END:STANDARD
BEGIN:DAYLIGHT
TZOFFSETFROM:+0100
TZOFFSETTO:+0200
TZNAME:CEST
DTSTART:20240331T010000
END:DAYLIGHT
BEGIN:STANDARD
TZOFFSETFROM:+0200
TZOFFSETTO:+0100
TZNAME:CET
DTSTART:20241027T010000
END:STANDARD
END:VTIMEZONE
BEGIN:VEVENT
DTSTART;TZID=Europe/Amsterdam:20230311T093000
DTEND;TZID=Europe/Amsterdam:20230311T144500
DTSTAMP:20260423T045937
CREATED:20221026T143732Z
LAST-MODIFIED:20230311T064813Z
UID:15434-1678527000-1678545900@vrouwtotvrouw.g4zdev.com
SUMMARY:Vrouw tot Vrouwdag Hoevelaken
DESCRIPTION:[vc_row full_width=”stretch_row_content_no_spaces”][vc_column]\n	\n		\n			\n				\n			\n		\n	\n         \n        Home > Evenementen[/vc_column][/vc_row][vc_row][vc_column width=”2/3″]Sing-in 11 juni[vc_column_text]Thema: Psalmen kleuren je dag! \nSprekers: ds A. Baas en drs M. Renkema \nInloop vanaf 9.00 uur; aanvang 9.30 uur.\nWe besluiten de dag plenair om ongeveer 14.45 uur.[/vc_column_text][vc_row_inner][vc_column_inner width=”1/2″][vc_single_image image=”15461″ img_size=”200 x 200″ alignment=”right”][/vc_column_inner][vc_column_inner width=”1/2″][vc_single_image image=”15458″ img_size=”200 x 200″][/vc_column_inner][/vc_row_inner]Tickets bestellen[/vc_column][vc_column width=”1/3″][vc_single_image image=”15476″ img_size=”full” alignment=”center” onclick=”custom_link” link=”https://vrouwtotvrouw.nl/actueel/nieuws/psalmen-kleuren-je-dag/” css=”.vc_custom_1666790235652{margin-top: 50px !important;}”][/vc_column][/vc_row]
URL:https://vrouwtotvrouw.g4zdev.com/event/vrouw-tot-vrouwdag-hoevelaken/
LOCATION:Rehoboth\, Hoevelaken\, Smallestreek 4\, Hoevelaken\, 3871AZ\, Nederland
CATEGORIES:Vrouwendagen
ATTACH;FMTTYPE=image/jpeg:https://vrouwtotvrouw.g4zdev.com/app/uploads/2022/10/header-evenement-vtvdagen.jpg
END:VEVENT
BEGIN:VEVENT
DTSTART;TZID=Europe/Amsterdam:20230325T093000
DTEND;TZID=Europe/Amsterdam:20230325T144500
DTSTAMP:20260423T045937
CREATED:20221026T144133Z
LAST-MODIFIED:20230311T064517Z
UID:15466-1679736600-1679755500@vrouwtotvrouw.g4zdev.com
SUMMARY:Vrouw tot Vrouwdag Giessenburg
DESCRIPTION:[vc_row full_width=”stretch_row_content_no_spaces”][vc_column]\n	\n		\n			\n				\n			\n		\n	\n         \n        Home > Evenementen[/vc_column][/vc_row][vc_row][vc_column width=”2/3″]Sing-in 11 juni[vc_column_text] \n\n\nThema: Psalmen kleuren je dag! \nSprekers: ds A.P. Pors en drs M. Renkema \nInloop vanaf 9.00 uur; aanvang 9.30 uur.\nWe besluiten de dag plenair om ongeveer 14.45 uur. \n\n\n[/vc_column_text][vc_row_inner][vc_column_inner width=”1/2″][vc_single_image image=”15460″ img_size=”200×200″ alignment=”right”][/vc_column_inner][vc_column_inner width=”1/2″][vc_single_image image=”15458″ img_size=”200×200″][/vc_column_inner][/vc_row_inner]Tickets[vc_column_text]Helaas! De tickets voor deze dag zijn uitverkocht. Je kunt een mail sturen (graag telefoonnummer erbij vermelden!) voor een plekje op de reservelijst.[/vc_column_text][/vc_column][vc_column width=”1/3″][vc_single_image image=”15476″ img_size=”full” alignment=”center” onclick=”custom_link” link=”https://vrouwtotvrouw.nl/actueel/nieuws/psalmen-kleuren-je-dag/” css=”.vc_custom_1666790184060{margin-top: 50px !important;}”][/vc_column][/vc_row]
URL:https://vrouwtotvrouw.g4zdev.com/event/vrouw-tot-vrouwdag-giessenburg/
LOCATION:De Til\, Giessenburg\, Breestraat 1\, Giessenburg\, 3381BS\, Nederland
CATEGORIES:Vrouwendagen
ATTACH;FMTTYPE=image/jpeg:https://vrouwtotvrouw.g4zdev.com/app/uploads/2022/10/header-evenement-vtvdagen.jpg
END:VEVENT
END:VCALENDAR