BEGIN:VCALENDAR
VERSION:2.0
PRODID:-//Vrouw tot Vrouw - ECPv6.15.20//NONSGML v1.0//EN
CALSCALE:GREGORIAN
METHOD:PUBLISH
X-ORIGINAL-URL:https://vrouwtotvrouw.g4zdev.com
X-WR-CALDESC:Evenementen voor Vrouw tot Vrouw
REFRESH-INTERVAL;VALUE=DURATION:PT1H
X-Robots-Tag:noindex
X-PUBLISHED-TTL:PT1H
BEGIN:VTIMEZONE
TZID:Europe/Amsterdam
BEGIN:DAYLIGHT
TZOFFSETFROM:+0100
TZOFFSETTO:+0200
TZNAME:CEST
DTSTART:20220327T010000
END:DAYLIGHT
BEGIN:STANDARD
TZOFFSETFROM:+0200
TZOFFSETTO:+0100
TZNAME:CET
DTSTART:20221030T010000
END:STANDARD
BEGIN:DAYLIGHT
TZOFFSETFROM:+0100
TZOFFSETTO:+0200
TZNAME:CEST
DTSTART:20230326T010000
END:DAYLIGHT
BEGIN:STANDARD
TZOFFSETFROM:+0200
TZOFFSETTO:+0100
TZNAME:CET
DTSTART:20231029T010000
END:STANDARD
BEGIN:DAYLIGHT
TZOFFSETFROM:+0100
TZOFFSETTO:+0200
TZNAME:CEST
DTSTART:20240331T010000
END:DAYLIGHT
BEGIN:STANDARD
TZOFFSETFROM:+0200
TZOFFSETTO:+0100
TZNAME:CET
DTSTART:20241027T010000
END:STANDARD
END:VTIMEZONE
BEGIN:VEVENT
DTSTART;TZID=Europe/Amsterdam:20230524T093000
DTEND;TZID=Europe/Amsterdam:20230524T120000
DTSTAMP:20260422T234151
CREATED:20230308T102342Z
LAST-MODIFIED:20230309T094316Z
UID:18549-1684920600-1684929600@vrouwtotvrouw.g4zdev.com
SUMMARY:Vrouw tot Vrouw on Tour - Rijssen
DESCRIPTION:[vc_row full_width=”stretch_row_content_no_spaces”][vc_column]\n	\n		\n			\n				\n			\n		\n	\n         \n        Home > Evenementen[/vc_column][/vc_row][vc_row][vc_column width=”2/3″]Sing-in 11 juni[vc_column_text]Een boeiende lezing\, interactie\, een inhoudsvolle verwerking\, muziek & zang en natuurlijk koffie met wat lekkers. \nSpreker: ds. T.J. Lucas uit Vriezenveen \nToegang gratis\, aanmelding gewenst.[/vc_column_text]Direct aanmelden[/vc_column][vc_column width=”1/3″][vc_single_image image=”15476″ img_size=”150×150″ onclick=”custom_link” link=”https://vrouwtotvrouw.nl/nieuws/vrouw-tot-vrouw-on-tour/” css=”.vc_custom_1678267407842{margin-top: 50px !important;}”][/vc_column][/vc_row]
URL:https://vrouwtotvrouw.g4zdev.com/event/vrouw-tot-vrouw-on-tour-rijssen/
LOCATION:Kerkelijk Centrum Sion\, Rijssen\, Joh. Vermeerstraat 2\, Rijssen\, 7462 BN
ATTACH;FMTTYPE=image/png:https://vrouwtotvrouw.g4zdev.com/app/uploads/2023/01/header-vtv-on-tour.png
END:VEVENT
BEGIN:VEVENT
DTSTART;TZID=Europe/Amsterdam:20230531T093000
DTEND;TZID=Europe/Amsterdam:20230531T120000
DTSTAMP:20260422T234151
CREATED:20230308T102850Z
LAST-MODIFIED:20230311T065237Z
UID:18555-1685525400-1685534400@vrouwtotvrouw.g4zdev.com
SUMMARY:Vrouw tot Vrouw on Tour – Bruinisse
DESCRIPTION:[vc_row full_width=”stretch_row_content_no_spaces”][vc_column]\n	\n		\n			\n				\n			\n		\n	\n         \n        Home > Evenementen[/vc_column][/vc_row][vc_row][vc_column width=”2/3″]Sing-in 11 juni[vc_column_text] \n\n\nEen boeiende lezing\, interactie\, een inhoudsvolle verwerking\, muziek & zang en natuurlijk koffie met wat lekkers. \nSpreker: ds. W. den Boer\, Goedereede \nToegang gratis\, aanmelding gewenst. \n\n\n[/vc_column_text]Direct aanmelden[/vc_column][vc_column width=”1/3″][vc_single_image image=”15476″ img_size=”150×150″ onclick=”custom_link” css=”.vc_custom_1678267608901{margin-top: 50px !important;}” link=”https://vrouwtotvrouw.nl/nieuws/vrouw-tot-vrouw-on-tour/”][/vc_column][/vc_row]
URL:https://vrouwtotvrouw.g4zdev.com/event/vrouw-tot-vrouw-on-tour-bruinisse/
LOCATION:Restaurant Grevelingen\, Bruinisse\, Parallelweg 1\, Bruinisse\, 4311 NE
ATTACH;FMTTYPE=image/png:https://vrouwtotvrouw.g4zdev.com/app/uploads/2023/01/header-vtv-on-tour.png
END:VEVENT
END:VCALENDAR