BEGIN:VCALENDAR
VERSION:2.0
PRODID:-//Vrouw tot Vrouw - ECPv6.15.20//NONSGML v1.0//EN
CALSCALE:GREGORIAN
METHOD:PUBLISH
X-WR-CALNAME:Vrouw tot Vrouw
X-ORIGINAL-URL:https://vrouwtotvrouw.g4zdev.com
X-WR-CALDESC:Evenementen voor Vrouw tot Vrouw
REFRESH-INTERVAL;VALUE=DURATION:PT1H
X-Robots-Tag:noindex
X-PUBLISHED-TTL:PT1H
BEGIN:VTIMEZONE
TZID:Europe/Amsterdam
BEGIN:DAYLIGHT
TZOFFSETFROM:+0100
TZOFFSETTO:+0200
TZNAME:CEST
DTSTART:20220327T010000
END:DAYLIGHT
BEGIN:STANDARD
TZOFFSETFROM:+0200
TZOFFSETTO:+0100
TZNAME:CET
DTSTART:20221030T010000
END:STANDARD
BEGIN:DAYLIGHT
TZOFFSETFROM:+0100
TZOFFSETTO:+0200
TZNAME:CEST
DTSTART:20230326T010000
END:DAYLIGHT
BEGIN:STANDARD
TZOFFSETFROM:+0200
TZOFFSETTO:+0100
TZNAME:CET
DTSTART:20231029T010000
END:STANDARD
BEGIN:DAYLIGHT
TZOFFSETFROM:+0100
TZOFFSETTO:+0200
TZNAME:CEST
DTSTART:20240331T010000
END:DAYLIGHT
BEGIN:STANDARD
TZOFFSETFROM:+0200
TZOFFSETTO:+0100
TZNAME:CET
DTSTART:20241027T010000
END:STANDARD
END:VTIMEZONE
BEGIN:VEVENT
DTSTART;TZID=Europe/Amsterdam:20230607T093000
DTEND;TZID=Europe/Amsterdam:20230607T120000
DTSTAMP:20260422T222424
CREATED:20230308T103428Z
LAST-MODIFIED:20230423T002029Z
UID:18561-1686130200-1686139200@vrouwtotvrouw.g4zdev.com
SUMMARY:Vrouw tot Vrouw on Tour - Assen
DESCRIPTION:[vc_row full_width=”stretch_row_content_no_spaces”][vc_column]\n	\n		\n			\n				\n			\n		\n	\n         \n        Home > Evenementen[/vc_column][/vc_row][vc_row][vc_column width=”2/3″]Sing-in 11 juni[vc_column_text] \n\n\nEen boeiende lezing\, interactie\, een inhoudsvolle verwerking\, muziek & zang en natuurlijk koffie met wat lekkers. \nSpreker: ds. G.H. Vlijm\, Wezep \nToegang gratis\, aanmelding gewenst. \n\n\n[/vc_column_text]Direct aanmelden[/vc_column][vc_column width=”1/3″][vc_single_image image=”15476″ img_size=”150×150″ onclick=”custom_link” link=”https://vrouwtotvrouw.nl/nieuws/vrouw-tot-vrouw-on-tour/”][/vc_column][/vc_row]
URL:https://vrouwtotvrouw.g4zdev.com/event/vrouw-tot-vrouw-on-tour-assen/
LOCATION:Buurthuis De Schulp\, Assen\, Buizerdstraat 10\, Assen\, 9404 BB
ATTACH;FMTTYPE=image/png:https://vrouwtotvrouw.g4zdev.com/app/uploads/2023/01/header-vtv-on-tour.png
END:VEVENT
END:VCALENDAR