BEGIN:VCALENDAR
VERSION:2.0
PRODID:-//Vrouw tot Vrouw - ECPv6.15.20//NONSGML v1.0//EN
CALSCALE:GREGORIAN
METHOD:PUBLISH
X-WR-CALNAME:Vrouw tot Vrouw
X-ORIGINAL-URL:https://vrouwtotvrouw.g4zdev.com
X-WR-CALDESC:Evenementen voor Vrouw tot Vrouw
REFRESH-INTERVAL;VALUE=DURATION:PT1H
X-Robots-Tag:noindex
X-PUBLISHED-TTL:PT1H
BEGIN:VTIMEZONE
TZID:Europe/Amsterdam
BEGIN:DAYLIGHT
TZOFFSETFROM:+0100
TZOFFSETTO:+0200
TZNAME:CEST
DTSTART:20220327T010000
END:DAYLIGHT
BEGIN:STANDARD
TZOFFSETFROM:+0200
TZOFFSETTO:+0100
TZNAME:CET
DTSTART:20221030T010000
END:STANDARD
BEGIN:DAYLIGHT
TZOFFSETFROM:+0100
TZOFFSETTO:+0200
TZNAME:CEST
DTSTART:20230326T010000
END:DAYLIGHT
BEGIN:STANDARD
TZOFFSETFROM:+0200
TZOFFSETTO:+0100
TZNAME:CET
DTSTART:20231029T010000
END:STANDARD
BEGIN:DAYLIGHT
TZOFFSETFROM:+0100
TZOFFSETTO:+0200
TZNAME:CEST
DTSTART:20240331T010000
END:DAYLIGHT
BEGIN:STANDARD
TZOFFSETFROM:+0200
TZOFFSETTO:+0100
TZNAME:CET
DTSTART:20241027T010000
END:STANDARD
END:VTIMEZONE
BEGIN:VEVENT
DTSTART;TZID=Europe/Amsterdam:20230928T094500
DTEND;TZID=Europe/Amsterdam:20230928T124500
DTSTAMP:20260422T181322
CREATED:20230615T132538Z
LAST-MODIFIED:20230615T132538Z
UID:20052-1695894300-1695905100@vrouwtotvrouw.g4zdev.com
SUMMARY:Vrouw-tot-Vrouwdag 2023
DESCRIPTION:[vc_row full_width=”stretch_row_content_no_spaces”][vc_column]\n	\n		\n			\n				\n			\n		\n	\n         \n        Home > Evenementen[/vc_column][/vc_row][vc_row][vc_column width=”2/3″]Sing-in 11 juni[vc_column_text]Van harte welkom op de Vrouw-tot-Vrouwdag op\ndonderdag 28 september 2023 \nTijden: Aanvang 09.45 uur / Sluiting 12.45 uur (inloop vanaf 09.00 uur)\nLocatie: De Basiliek\, Wiltonstraat 56\, 3905 KW VEENENDAAL \nKlik hier voor meer informatie.[/vc_column_text][/vc_column][vc_column width=”1/3″][/vc_column][/vc_row]
URL:https://vrouwtotvrouw.g4zdev.com/event/vrouw-tot-vrouwdag-2023/
LOCATION:De Basiliek\, Veenendaal\, Wiltonstraat 56\, Veenendaal\, Nederland
ATTACH;FMTTYPE=image/png:https://vrouwtotvrouw.g4zdev.com/app/uploads/2023/06/Schermafbeelding-2023-06-08-200930.png
END:VEVENT
END:VCALENDAR