BEGIN:VCALENDAR
VERSION:2.0
PRODID:-//Vrouw tot Vrouw - ECPv6.15.20//NONSGML v1.0//EN
CALSCALE:GREGORIAN
METHOD:PUBLISH
X-WR-CALNAME:Vrouw tot Vrouw
X-ORIGINAL-URL:https://vrouwtotvrouw.g4zdev.com
X-WR-CALDESC:Evenementen voor Vrouw tot Vrouw
REFRESH-INTERVAL;VALUE=DURATION:PT1H
X-Robots-Tag:noindex
X-PUBLISHED-TTL:PT1H
BEGIN:VTIMEZONE
TZID:Europe/Amsterdam
BEGIN:DAYLIGHT
TZOFFSETFROM:+0100
TZOFFSETTO:+0200
TZNAME:CEST
DTSTART:20230326T010000
END:DAYLIGHT
BEGIN:STANDARD
TZOFFSETFROM:+0200
TZOFFSETTO:+0100
TZNAME:CET
DTSTART:20231029T010000
END:STANDARD
BEGIN:DAYLIGHT
TZOFFSETFROM:+0100
TZOFFSETTO:+0200
TZNAME:CEST
DTSTART:20240331T010000
END:DAYLIGHT
BEGIN:STANDARD
TZOFFSETFROM:+0200
TZOFFSETTO:+0100
TZNAME:CET
DTSTART:20241027T010000
END:STANDARD
BEGIN:DAYLIGHT
TZOFFSETFROM:+0100
TZOFFSETTO:+0200
TZNAME:CEST
DTSTART:20250330T010000
END:DAYLIGHT
BEGIN:STANDARD
TZOFFSETFROM:+0200
TZOFFSETTO:+0100
TZNAME:CET
DTSTART:20251026T010000
END:STANDARD
END:VTIMEZONE
BEGIN:VEVENT
DTSTART;TZID=Europe/Amsterdam:20240529T093000
DTEND;TZID=Europe/Amsterdam:20240529T120000
DTSTAMP:20260422T042243
CREATED:20240226T202345Z
LAST-MODIFIED:20241107T153907Z
UID:23930-1716975000-1716984000@vrouwtotvrouw.g4zdev.com
SUMMARY:Vrouw tot Vrouw On Tour - Urk
DESCRIPTION:[vc_row][vc_column]\n	\n		\n			\n				\n			\n		\n	\n         \n        Home > Evenementen[/vc_column][/vc_row][vc_row][vc_column width=”2/3″]Sing-in 11 juni[vc_column_text]In de ‘on tour’ van 2024 willen we vrouwen toerusten en aansporen om deze adempauze te zoeken. Wat vraagt de Heere van mij? \n29 mei Urk\, De Bron | Ds. M. Krooneman \nKlik hier voor alle informatie en om je aan te melden.[/vc_column_text][/vc_column][vc_column width=”1/3″][/vc_column][/vc_row]
URL:https://vrouwtotvrouw.g4zdev.com/event/vrouw-tot-vrouw-on-tour-urk/
LOCATION:De Bron\, Urk\, Voorland 28\, Urk\, 8321 CB\, Nederland
CATEGORIES:Agenda
ATTACH;FMTTYPE=image/png:https://vrouwtotvrouw.g4zdev.com/app/uploads/2024/02/Omslag-website-6.png
END:VEVENT
BEGIN:VEVENT
DTSTART;TZID=Europe/Amsterdam:20240531T193000
DTEND;TZID=Europe/Amsterdam:20240531T220000
DTSTAMP:20260422T042243
CREATED:20240508T211735Z
LAST-MODIFIED:20241107T153900Z
UID:24946-1717183800-1717192800@vrouwtotvrouw.g4zdev.com
SUMMARY:Sing-in Vrouw tot Vrouw Young
DESCRIPTION:[vc_row full_width=”stretch_row_content_no_spaces”][vc_column]\n	\n		\n			\n				\n			\n		\n	\n         \n        Home > Evenementen[/vc_column][/vc_row][vc_row][vc_column width=”2/3″]Sing-in 11 juni[vc_column_text]Met het Pinksterfeest vervulde Gods Geest de discipelen. Zo konden ze de wereld in gaan om het evangelie te verkondigen. Hoe laat jij je licht stralen in deze gebroken wereld? Hanna Jongejan rust ons deze avond toe vanuit Gods woord over dit thema. Band Elin verzorgt deze avond de muziek. Wij zorgen voor een gezellige locatie\, hapje en drankje. Ook is er de gelegenheid om rond te snuffelen bij stands vol leuke spulletjes. Neem jij je buurvrouw\, vriendin of zus mee? Van harte welkom!  \nWanneer? Vrijdagavond 31 mei – Aanvang 19.30u\nVoor wie? Voor vrouwelijke twintigers en dertigers\nWaar: Utrechtseweg 230 Amersfoort \nVragen? Mail naar: young@vrouwtotvrouw.nl \nToegang is gratis.\nMeld je hier aan.\n[/vc_column_text][/vc_column][vc_column width=”1/3″][/vc_column][/vc_row]
URL:https://vrouwtotvrouw.g4zdev.com/event/sing-in-vrouw-tot-vrouw-young/
LOCATION:Utrechtseweg 230\, Amersfoort\, Utrechtseweg 230\, Amersfoort\, 3818 ET\, Nederland
CATEGORIES:Agenda
ATTACH;FMTTYPE=image/png:https://vrouwtotvrouw.g4zdev.com/app/uploads/2024/03/DEF-Advertentie-magazine.png
END:VEVENT
END:VCALENDAR